BEGIN:VCALENDAR
VERSION:2.0
PRODID:-//Tukios.com/
BEGIN:VEVENT
UID:0eaa132b-f45e-44c3-b1dc-bb815ddfaefd@www.ofieldfuneralhome.com
DTSTAMP:20260420T174027Z
DTSTART:20260502T170000Z
DTEND:20260502T180000Z
SUMMARY:Celebration of Life
DESCRIPTION:Luncheon to Follow
URL:https://www.ofieldfuneralhome.com/obituaries/sheryl-peterson
LOCATION: 10 E Park Pl NE  Grand Rapids MI 49503
GEO:42.9641248;-85.6655684
END:VEVENT
END:VCALENDAR