BEGIN:VCALENDAR
VERSION:2.0
PRODID:-//Tukios.com/
BEGIN:VEVENT
UID:0b334f6a-9b4a-40a0-b870-cca25621120f@www.ofieldfuneralhome.com
DTSTAMP:20260420T174539Z
DTSTART:20260502T153000Z
DTEND:20260502T170000Z
SUMMARY:Visitation
DESCRIPTION:
URL:https://www.ofieldfuneralhome.com/obituaries/sheryl-peterson
LOCATION: 10 E Park Pl NE  Grand Rapids MI 49503
GEO:42.9641248;-85.6655684
END:VEVENT
END:VCALENDAR