BEGIN:VCALENDAR
VERSION:2.0
PRODID:-//Tukios.com/
BEGIN:VEVENT
UID:781ab940-4673-47f1-b78f-f619017bb805@www.ofieldfuneralhome.com
DTSTAMP:20260425T023522Z
DTSTART:20260502T150000Z
DTEND:20260502T160000Z
SUMMARY:Celebration of Life
DESCRIPTION:
URL:https://www.ofieldfuneralhome.com/obituaries/mary-brouwer
LOCATION:Voyage Church 6339 Atlantic Avenue  Kalamazoo MI 49009
GEO:42.2574972;-85.673907
END:VEVENT
END:VCALENDAR