BEGIN:VCALENDAR
VERSION:2.0
PRODID:-//Tukios.com/
BEGIN:VEVENT
UID:d81b21ef-a0de-4e2a-befb-9a97af4e50ac@www.ofieldfuneralhome.com
DTSTAMP:20260421T182435Z
DTSTART:20260516T170000Z
DTEND:20260516T200000Z
SUMMARY:Celebration of Life
DESCRIPTION:Bring photos and stories to share.
URL:https://www.ofieldfuneralhome.com/obituaries/kirsten-mork
LOCATION: 865 Lincoln Lake Ave SE  Lowell MI 49331
GEO:42.9492419;-85.3505955
END:VEVENT
END:VCALENDAR