BEGIN:VCALENDAR
VERSION:2.0
PRODID:-//Tukios.com/
BEGIN:VEVENT
UID:90069b7e-d61f-4f6a-bbb0-7cd0e78288c7@www.ofieldfuneralhome.com
DTSTAMP:20260419T132641Z
DTSTART:20260423T140000Z
DTEND:20260423T150000Z
SUMMARY:Visitation
DESCRIPTION:
URL:https://www.ofieldfuneralhome.com/obituaries/john-jack-obrien
LOCATION:St. Pius X Catholic Church 3937 Wilson Ave SW  Grandville MI 
	49418
GEO:42.8929933;-85.7629334
END:VEVENT
END:VCALENDAR