BEGIN:VCALENDAR
VERSION:2.0
PRODID:-//Tukios.com/
BEGIN:VEVENT
UID:a50bcaa3-33c9-4b9c-ae2c-d73407cd3e5c@www.ofieldfuneralhome.com
DTSTAMP:20260420T235115Z
DTSTART:20260424T140000Z
DTEND:20260424T150000Z
SUMMARY:Visitation
DESCRIPTION:
URL:https://www.ofieldfuneralhome.com/obituaries/edward-jacobs-jr
LOCATION:St. Mary Magdalene Catholic Church 1253 52nd Street Southeast  
	Kentwood MI 49508
GEO:42.8706049;-85.6348347
END:VEVENT
END:VCALENDAR