BEGIN:VCALENDAR
VERSION:2.0
PRODID:-//Tukios.com/
BEGIN:VEVENT
UID:eb5c07ee-eeda-4ce2-b06c-18f1776d31d4@www.ofieldfuneralhome.com
DTSTAMP:20260420T235422Z
DTSTART:20260424T150000Z
DTEND:20260424T160000Z
SUMMARY:Mass
DESCRIPTION:
URL:https://www.ofieldfuneralhome.com/obituaries/edward-jacobs-jr
LOCATION:St. Mary Magdalene Catholic Church 1253 52nd Street Southeast  
	Kentwood MI 49508
GEO:42.8706049;-85.6348347
END:VEVENT
END:VCALENDAR