BEGIN:VCALENDAR
VERSION:2.0
PRODID:-//Tukios.com/
BEGIN:VEVENT
UID:b2809b88-228a-4fed-92ee-fd2dbf6b5516@www.ofieldfuneralhome.com
DTSTAMP:20260420T235804Z
DTSTART:20260423T200000Z
DTEND:20260423T230000Z
SUMMARY:Visitation
DESCRIPTION:
URL:https://www.ofieldfuneralhome.com/obituaries/edward-jacobs-jr
LOCATION:St. Mary Magdalene Catholic Church 1253 52nd Street Southeast  
	Kentwood MI 49508
GEO:42.8706049;-85.6348347
END:VEVENT
END:VCALENDAR