BEGIN:VCALENDAR
VERSION:2.0
PRODID:-//Tukios.com/
BEGIN:VEVENT
UID:c388944e-9f46-4879-af9a-386d1ea86039@www.ofieldfuneralhome.com
DTSTAMP:20260421T043328Z
DTSTART:20260509T170000Z
DTEND:20260509T180000Z
SUMMARY:Celebration of Life
DESCRIPTION:
URL:https://www.ofieldfuneralhome.com/obituaries/dian-main
LOCATION:Camp Kidwell 39000 1st Ave  Bloomingdale MI 49026
GEO:42.420109;-85.9284583
END:VEVENT
END:VCALENDAR